BEGIN:VCALENDAR
VERSION:2.0
PRODID:-//Site de la commune de Vallet - ECPv6.15.18//NONSGML v1.0//EN
CALSCALE:GREGORIAN
METHOD:PUBLISH
X-ORIGINAL-URL:https://www.vallet.fr
X-WR-CALDESC:Évènements pour Site de la commune de Vallet
REFRESH-INTERVAL;VALUE=DURATION:PT1H
X-Robots-Tag:noindex
X-PUBLISHED-TTL:PT1H
BEGIN:VTIMEZONE
TZID:Europe/Paris
BEGIN:DAYLIGHT
TZOFFSETFROM:+0100
TZOFFSETTO:+0200
TZNAME:CEST
DTSTART:20240331T010000
END:DAYLIGHT
BEGIN:STANDARD
TZOFFSETFROM:+0200
TZOFFSETTO:+0100
TZNAME:CET
DTSTART:20241027T010000
END:STANDARD
BEGIN:DAYLIGHT
TZOFFSETFROM:+0100
TZOFFSETTO:+0200
TZNAME:CEST
DTSTART:20250330T010000
END:DAYLIGHT
BEGIN:STANDARD
TZOFFSETFROM:+0200
TZOFFSETTO:+0100
TZNAME:CET
DTSTART:20251026T010000
END:STANDARD
BEGIN:DAYLIGHT
TZOFFSETFROM:+0100
TZOFFSETTO:+0200
TZNAME:CEST
DTSTART:20260329T010000
END:DAYLIGHT
BEGIN:STANDARD
TZOFFSETFROM:+0200
TZOFFSETTO:+0100
TZNAME:CET
DTSTART:20261025T010000
END:STANDARD
END:VTIMEZONE
BEGIN:VEVENT
DTSTART;TZID=Europe/Paris:20251029T103000
DTEND;TZID=Europe/Paris:20251029T120000
DTSTAMP:20260423T112358
CREATED:20251007T090001Z
LAST-MODIFIED:20251016T123509Z
UID:10002857-1761733800-1761739200@www.vallet.fr
SUMMARY:Micro-fabrique « Paysages d’automne » à la Micro-Folie Vallet
DESCRIPTION:Trois Micro-fabriques sur les paysages d’automne \nsont proposées les 28\, 29 et 30 octobre 2025 de 10h30 à 12h à la Micro-Folie Vallet ! \n  \n \nLes Micro-fabriques\, qu’est-ce que c’est ? Il s’agit d’un temps de découverte d’œuvres et d’échanges\, suivi d’un atelier créatif\, préparés et animés par la médiatrice de la Micro-Folie. \nÀ NOTER : Le même contenu sera proposé les trois matinées\, avec pour thématique : Les paysages d’automne. \nBrumes légères\, forêts flamboyantes\, lumières dorées… L’automne est une source d’inspiration majeure pour la palette des artistes. Cette Micro-fabrique vous invite à découvrir comment les peintres ont représenté les paysages automnaux\, entre couleurs chaudes et ambiances feutrées. Une activité autour de l’automne viendra prolonger l’expérience ! \nCLIQUEZ ICI POUR VOUS INSCRIRE ! \n(Gratuit\, inscription obligatoire) \n  \nAccessibles de 3 à 99 ans\, les Micro-fabriques sont gratuites\, mais sur inscription obligatoire\, le nombre de places étant limité.\nPour rappel\, chaque personne mineure doit obligatoirement être accompagnée d’un adulte. \nPhoto: Dans le Nord ©MBAM achat-don du Dr Francis J. Shepherd de Sir Vincent Meredith des Drs Lauterman et W. Gardner et de Mme Hobart Molson_Denis Farley \n  \n 
URL:https://www.vallet.fr/evenement/micro-fabrique-paysages-dautomne-a-la-micro-folie-vallet/
LOCATION:Micro-Folie\, 13 route des Dorices\, Vallet\, 44330\, France
ATTACH;FMTTYPE=image/png:https://www.vallet.fr/wp-content/uploads/tribe_events/dans-le-nord-mbam-achat-don-du-dr-francis-j-shepherd-de-sir-vincent-meredith-des-drs-lauterman-et-w-gardner-et-de-mme-hobart-molson-denis-farley.png
ORGANIZER;CN="Micro-Folie Vallet":MAILTO:microfolie@vallet.fr
END:VEVENT
BEGIN:VEVENT
DTSTART;TZID=Europe/Paris:20251029T160000
DTEND;TZID=Europe/Paris:20251029T163000
DTSTAMP:20260423T112358
CREATED:20251007T090824Z
LAST-MODIFIED:20251016T123029Z
UID:10002861-1761753600-1761755400@www.vallet.fr
SUMMARY:Micro-conférence « Représenter l’inévitable : l’art face à la mort » à la Micro-Folie Vallet
DESCRIPTION:De 16h à 16h30 : Micro-conférence | Représenter l’inévitable : l’art face à la mort \nUniverselle et intemporelle\, la mort est présente dans l’art de toutes les civilisations. Au cours de cette Micro-conférence\, vous découvrirez comment les artistes ont représenté la finitude humaine à travers les siècles. Vanités\, scènes dramatiques ou encore méditations spirituelles\, chaque œuvre porte un regard unique sur notre rapport à la disparition. Un regard sensible sur l’un des grands mystères de la vie ! \n+ d’infos ici : https://www.champilambart.fr/micro-folie-vallet/le-programme/ \nCrâne avec coiffe ©Archivo Digital de las Colecciones del Museo Nacional de Antropología\, INAH-Canon
URL:https://www.vallet.fr/evenement/micro-conference-representer-linevitable-lart-face-a-la-mort-a-la-micro-folie-vallet-3/
LOCATION:Micro-Folie\, 13 route des Dorices\, Vallet\, 44330\, France
ATTACH;FMTTYPE=image/png:https://www.vallet.fr/wp-content/uploads/tribe_events/Micro-Folie-Musee-numerique-credit-photo-©NaiadePlante_BD-.png
ORGANIZER;CN="Micro-Folie Vallet":MAILTO:microfolie@vallet.fr
END:VEVENT
BEGIN:VEVENT
DTSTART;TZID=Europe/Paris:20251029T160000
DTEND;TZID=Europe/Paris:20251029T193000
DTSTAMP:20260423T112358
CREATED:20251002T144215Z
LAST-MODIFIED:20251014T141512Z
UID:10002842-1761753600-1761766200@www.vallet.fr
SUMMARY:Don du sang
DESCRIPTION:29 octobre\nPrenez votre RDV sur dondesang.efs.sante.fr.\n\n\n \n\n\n🕜 De 16h à 19h30\n\n\n📍 Salle Raphael Hardy à Mouzillon\n\n 
URL:https://www.vallet.fr/evenement/don-du-sang-11/2025-10-29/
ATTACH;FMTTYPE=image/jpeg:https://www.vallet.fr/wp-content/uploads/tribe_events/blood-donation-concept-awareness-donation-1-scaled.jpg
END:VEVENT
END:VCALENDAR