BEGIN:VCALENDAR
VERSION:2.0
PRODID:-//Site de la commune de Vallet - ECPv6.15.18//NONSGML v1.0//EN
CALSCALE:GREGORIAN
METHOD:PUBLISH
X-WR-CALNAME:Site de la commune de Vallet
X-ORIGINAL-URL:https://www.vallet.fr
X-WR-CALDESC:Évènements pour Site de la commune de Vallet
REFRESH-INTERVAL;VALUE=DURATION:PT1H
X-Robots-Tag:noindex
X-PUBLISHED-TTL:PT1H
BEGIN:VTIMEZONE
TZID:Europe/Paris
BEGIN:DAYLIGHT
TZOFFSETFROM:+0100
TZOFFSETTO:+0200
TZNAME:CEST
DTSTART:20250330T010000
END:DAYLIGHT
BEGIN:STANDARD
TZOFFSETFROM:+0200
TZOFFSETTO:+0100
TZNAME:CET
DTSTART:20251026T010000
END:STANDARD
BEGIN:DAYLIGHT
TZOFFSETFROM:+0100
TZOFFSETTO:+0200
TZNAME:CEST
DTSTART:20260329T010000
END:DAYLIGHT
BEGIN:STANDARD
TZOFFSETFROM:+0200
TZOFFSETTO:+0100
TZNAME:CET
DTSTART:20261025T010000
END:STANDARD
BEGIN:DAYLIGHT
TZOFFSETFROM:+0100
TZOFFSETTO:+0200
TZNAME:CEST
DTSTART:20270328T010000
END:DAYLIGHT
BEGIN:STANDARD
TZOFFSETFROM:+0200
TZOFFSETTO:+0100
TZNAME:CET
DTSTART:20271031T010000
END:STANDARD
END:VTIMEZONE
BEGIN:VEVENT
DTSTART;TZID=Europe/Paris:20260111T100000
DTEND;TZID=Europe/Paris:20260111T123000
DTSTAMP:20260423T163113
CREATED:20251201T110239Z
LAST-MODIFIED:20251230T091006Z
UID:10002881-1768125600-1768134600@www.vallet.fr
SUMMARY:Boissons chaudes sur le marché
DESCRIPTION:Le 11 janvier\, la municipalité offrira ses vœux à la population autour de la traditionnelle dégustation de vin* et chocolat chaud sur le marché. Rendez-vous devant la mairie pour partager ce moment convivial. \n* L’abus d’alcool est dangereux pour la santé\, à consommer avec modération.
URL:https://www.vallet.fr/evenement/boisson-chaude-sur-le-marche/
ATTACH;FMTTYPE=image/jpeg:https://www.vallet.fr/wp-content/uploads/tribe_events/vin_cahud.jpg
END:VEVENT
END:VCALENDAR