BEGIN:VCALENDAR
VERSION:2.0
PRODID:-//Site de la commune de Vallet - ECPv6.15.18//NONSGML v1.0//EN
CALSCALE:GREGORIAN
METHOD:PUBLISH
X-ORIGINAL-URL:https://www.vallet.fr
X-WR-CALDESC:Évènements pour Site de la commune de Vallet
REFRESH-INTERVAL;VALUE=DURATION:PT1H
X-Robots-Tag:noindex
X-PUBLISHED-TTL:PT1H
BEGIN:VTIMEZONE
TZID:Europe/Paris
BEGIN:DAYLIGHT
TZOFFSETFROM:+0100
TZOFFSETTO:+0200
TZNAME:CEST
DTSTART:20250330T010000
END:DAYLIGHT
BEGIN:STANDARD
TZOFFSETFROM:+0200
TZOFFSETTO:+0100
TZNAME:CET
DTSTART:20251026T010000
END:STANDARD
BEGIN:DAYLIGHT
TZOFFSETFROM:+0100
TZOFFSETTO:+0200
TZNAME:CEST
DTSTART:20260329T010000
END:DAYLIGHT
BEGIN:STANDARD
TZOFFSETFROM:+0200
TZOFFSETTO:+0100
TZNAME:CET
DTSTART:20261025T010000
END:STANDARD
BEGIN:DAYLIGHT
TZOFFSETFROM:+0100
TZOFFSETTO:+0200
TZNAME:CEST
DTSTART:20270328T010000
END:DAYLIGHT
BEGIN:STANDARD
TZOFFSETFROM:+0200
TZOFFSETTO:+0100
TZNAME:CET
DTSTART:20271031T010000
END:STANDARD
END:VTIMEZONE
BEGIN:VEVENT
DTSTART;TZID=Europe/Paris:20260113T133000
DTEND;TZID=Europe/Paris:20260126T110000
DTSTAMP:20260423T163625
CREATED:20251230T093427Z
LAST-MODIFIED:20251230T093427Z
UID:10002882-1768311000-1769425200@www.vallet.fr
SUMMARY:Exposition d'Isabelle RIPOCHE
DESCRIPTION:[ DU 13 AU 26 JANVIER – EXPOSITION D’ISABELLE RIPOCHE ] \n \n\n\nL’artiste Isabelle RIPOCHE exposera à l’atrium de la mairie :\n« Carnet de bord d’une femme qui\, pendant le confinement\, s’est trouvé un talent pour la peinture. Elle dépose sur sa toile ses émotions pleine de couleurs. »\n \n\n\n Atrium de la mairie de Vallet\n Horaires d’ouverture de la mairie\, sauf le 13 janvier à partir de 13h30 et le 26 janvier jusqu’à 11h. Les dimanches de 10h30 à 12h30.
URL:https://www.vallet.fr/evenement/exposition-disabelle-ripoche/
ATTACH;FMTTYPE=image/jpeg:https://www.vallet.fr/wp-content/uploads/2025/12/1700855270122-1.jpg
END:VEVENT
BEGIN:VEVENT
DTSTART;TZID=Europe/Paris:20260123T163000
DTEND;TZID=Europe/Paris:20260123T180000
DTSTAMP:20260423T163625
CREATED:20260115T153756Z
LAST-MODIFIED:20260115T153756Z
UID:10002961-1769185800-1769191200@www.vallet.fr
SUMMARY:
DESCRIPTION:L’IA au service de la créativité \nVendredi 23 janvier 2026 de 16:30 à 18h \nEntrée libre\, Ado/adulte \nUn rendez-vous des Vendredis de l’IA \nVenez transformer votre imagination en réalité grâce à l’Intelligence Artificielle ! \nPour notre première rencontre\, nous mettons l’IA au service de l’art et de la création. \nDécouvrez et testez des outils pour créer : \nDes textes (poèmes\, articles\, scénarios). \nDes images (visuels époustouflants\, illustrations). \nDe la musique (mélodies\, ambiances sonores). \nLe but ? Montrer comment l’IA peut devenir un puissant assistant créatif pour tous\, même sans expérience technique. \nC’est simple\, c’est pratique\, c’est ouvert à tous. Venez expérimenter !
URL:https://www.vallet.fr/evenement/53129/
LOCATION:Médiathèque de Vallet\, 16 Rue Emile Gabory\, Vallet\, 44330\, France
ATTACH;FMTTYPE=image/jpeg:https://www.vallet.fr/wp-content/uploads/tribe_events/person-doing-daily-activities-with-big-brother-watching-scaled.jpg
GEO:47.1621255;-1.2679808
X-APPLE-STRUCTURED-LOCATION;VALUE=URI;X-ADDRESS=Médiathèque de Vallet 16 Rue Emile Gabory Vallet 44330 France;X-APPLE-RADIUS=500;X-TITLE=16 Rue Emile Gabory:geo:-1.2679808,47.1621255
END:VEVENT
END:VCALENDAR