BEGIN:VCALENDAR
VERSION:2.0
PRODID:-//Site de la commune de Vallet - ECPv6.15.18//NONSGML v1.0//EN
CALSCALE:GREGORIAN
METHOD:PUBLISH
X-ORIGINAL-URL:https://www.vallet.fr
X-WR-CALDESC:Évènements pour Site de la commune de Vallet
REFRESH-INTERVAL;VALUE=DURATION:PT1H
X-Robots-Tag:noindex
X-PUBLISHED-TTL:PT1H
BEGIN:VTIMEZONE
TZID:Europe/Paris
BEGIN:DAYLIGHT
TZOFFSETFROM:+0100
TZOFFSETTO:+0200
TZNAME:CEST
DTSTART:20250330T010000
END:DAYLIGHT
BEGIN:STANDARD
TZOFFSETFROM:+0200
TZOFFSETTO:+0100
TZNAME:CET
DTSTART:20251026T010000
END:STANDARD
BEGIN:DAYLIGHT
TZOFFSETFROM:+0100
TZOFFSETTO:+0200
TZNAME:CEST
DTSTART:20260329T010000
END:DAYLIGHT
BEGIN:STANDARD
TZOFFSETFROM:+0200
TZOFFSETTO:+0100
TZNAME:CET
DTSTART:20261025T010000
END:STANDARD
BEGIN:DAYLIGHT
TZOFFSETFROM:+0100
TZOFFSETTO:+0200
TZNAME:CEST
DTSTART:20270328T010000
END:DAYLIGHT
BEGIN:STANDARD
TZOFFSETFROM:+0200
TZOFFSETTO:+0100
TZNAME:CET
DTSTART:20271031T010000
END:STANDARD
END:VTIMEZONE
BEGIN:VEVENT
DTSTART;TZID=Europe/Paris:20260127T133000
DTEND;TZID=Europe/Paris:20260210T103000
DTSTAMP:20260423T152323
CREATED:20251230T094806Z
LAST-MODIFIED:20251230T094806Z
UID:10002883-1769520600-1770719400@www.vallet.fr
SUMMARY:Exposition d'Isabelle KERHARDY DANILO
DESCRIPTION:L’artiste Isabelle KERHARDY DANILO exposera à l’atrium de la mairie du 27 janvier au 10 février.  \n« Mon travail pictural explore une vision renouvelée de la nature morte\, un regard détaché du temps sur les objets et les espaces. Je nomme mes peintures mes « still lives« \, non pas comme une simple référence au genre classique\, mais comme une affirmation de mon approche personnelle : celle d’insuffler une nouvelle énergie aux formes\, de révéler leur présence autrement.\nLes lignes et les couleurs sont au coeur de ma démarche. Elles structurent et animent la composition\, se répondent et se transforment au gré du geste. La peinture à l’huile est mon médium unique\, choisi pour sa richesse\, sa profondeur et sa capacité à traduire la matière et la lumière » \n  \n Atrium de la mairie de Vallet\n Horaires d’ouverture de la mairie\, sauf le 27 janvier à partir de 13h30 et le 10 février jusqu’à 11h. Les dimanches de 10h30 à 12h30.
URL:https://www.vallet.fr/evenement/exposition-disabelle-kerhardy-danilo/
ATTACH;FMTTYPE=image/jpeg:https://www.vallet.fr/wp-content/uploads/tribe_events/isakerhardy.jpg
END:VEVENT
BEGIN:VEVENT
DTSTART;TZID=Europe/Paris:20260128T163000
DTEND;TZID=Europe/Paris:20260128T180000
DTSTAMP:20260423T152323
CREATED:20260115T151733Z
LAST-MODIFIED:20260115T151733Z
UID:10002887-1769617800-1769623200@www.vallet.fr
SUMMARY:Les mercredis du jeu
DESCRIPTION:Les mercredis du jeu \nTous les mercredis de 16h30 à 18h \nEntrée libre  \nChaque semaine\, la médiathèque vous donne rendez-vous pour Les Mercredis du Jeu\, un moment convivial dédié aux jeux de société\, aux jeux vidéo multijoueurs et à la découverte de la réalité virtuelle. \nPensé pour un public familial\, cet espace ludique permet de tester de nouveaux jeux\, de s’initier à différentes pratiques numériques et surtout… de jouer ensemble ! \nDes jeux de société pour tous les goûts (tout public) \nÀ chaque séance\, nous vous proposons une sélection de trois jeux de société. \nL’objectif : \n\nDécouvrir de nouveaux titres\,\nExplorer des mécaniques variées\,\nJouer en coopération ou en équipe.\nDes jeux faciles à prendre en main\, amusants et adaptés à un large public.\n\n  \nUn jeu vidéo différent chaque mercredi (à partir de 8 ans) \nPour la partie jeux vidéo\, la médiathèque met à disposition un jeu différent à chaque séance\, choisi parmi des titres multijoueurs ou coopératifs sur PS5 et Nintendo Switch. \nCourse\, cuisine déjantée\, danse\, sport ou combat : chaque mercredi réserve une nouvelle expérience ! \nLa réalité virtuelle : une fenêtre sur l’extraordinaire (ado-adulte) \nLes participants peuvent également s’initier à la réalité virtuelle grâce au Meta Quest 3. \nCette découverte guidée permet d’explorer des expériences immersives étonnantes\, accessibles et sécurisées. Le but n’est pas la performance\, mais l’émerveillement et la curiosité.
URL:https://www.vallet.fr/evenement/les-mercredis-du-jeu/2026-01-28/
LOCATION:Médiathèque
ATTACH;FMTTYPE=image/jpeg:https://www.vallet.fr/wp-content/uploads/tribe_events/board-games-coins-bills-dice-cards-1-scaled.jpg
END:VEVENT
END:VCALENDAR