BEGIN:VCALENDAR
VERSION:2.0
PRODID:-//Site de la commune de Vallet - ECPv6.15.18//NONSGML v1.0//EN
CALSCALE:GREGORIAN
METHOD:PUBLISH
X-WR-CALNAME:Site de la commune de Vallet
X-ORIGINAL-URL:https://www.vallet.fr
X-WR-CALDESC:Évènements pour Site de la commune de Vallet
REFRESH-INTERVAL;VALUE=DURATION:PT1H
X-Robots-Tag:noindex
X-PUBLISHED-TTL:PT1H
BEGIN:VTIMEZONE
TZID:Europe/Paris
BEGIN:DAYLIGHT
TZOFFSETFROM:+0100
TZOFFSETTO:+0200
TZNAME:CEST
DTSTART:20250330T010000
END:DAYLIGHT
BEGIN:STANDARD
TZOFFSETFROM:+0200
TZOFFSETTO:+0100
TZNAME:CET
DTSTART:20251026T010000
END:STANDARD
BEGIN:DAYLIGHT
TZOFFSETFROM:+0100
TZOFFSETTO:+0200
TZNAME:CEST
DTSTART:20260329T010000
END:DAYLIGHT
BEGIN:STANDARD
TZOFFSETFROM:+0200
TZOFFSETTO:+0100
TZNAME:CET
DTSTART:20261025T010000
END:STANDARD
BEGIN:DAYLIGHT
TZOFFSETFROM:+0100
TZOFFSETTO:+0200
TZNAME:CEST
DTSTART:20270328T010000
END:DAYLIGHT
BEGIN:STANDARD
TZOFFSETFROM:+0200
TZOFFSETTO:+0100
TZNAME:CET
DTSTART:20271031T010000
END:STANDARD
END:VTIMEZONE
BEGIN:VEVENT
DTSTART;TZID=Europe/Paris:20260228T140000
DTEND;TZID=Europe/Paris:20260228T170000
DTSTAMP:20260420T100901
CREATED:20260205T151747Z
LAST-MODIFIED:20260205T151747Z
UID:10002972-1772287200-1772298000@www.vallet.fr
SUMMARY:Concours de palets
DESCRIPTION:En doublette sur planche en plomb. Nombreux lots à gagner. Organisé par l’association de loisirs des 7 villages\, inscriptions sur place à 14h ou par téléphone au 06 42 47 80 00.\n \n\n\n Salle des Courrères\, route d’Ancenis\n Bar et restauration sur place\n\n\n 
URL:https://www.vallet.fr/evenement/concours-de-palets-3/
ATTACH;FMTTYPE=image/jpeg:https://www.vallet.fr/wp-content/uploads/tribe_events/palets-jeux-1065-5136-1.jpg
END:VEVENT
END:VCALENDAR