BEGIN:VCALENDAR
VERSION:2.0
PRODID:-//Site de la commune de Vallet - ECPv6.15.18//NONSGML v1.0//EN
CALSCALE:GREGORIAN
METHOD:PUBLISH
X-WR-CALNAME:Site de la commune de Vallet
X-ORIGINAL-URL:https://www.vallet.fr
X-WR-CALDESC:Évènements pour Site de la commune de Vallet
REFRESH-INTERVAL;VALUE=DURATION:PT1H
X-Robots-Tag:noindex
X-PUBLISHED-TTL:PT1H
BEGIN:VTIMEZONE
TZID:Europe/Paris
BEGIN:DAYLIGHT
TZOFFSETFROM:+0100
TZOFFSETTO:+0200
TZNAME:CEST
DTSTART:20250330T010000
END:DAYLIGHT
BEGIN:STANDARD
TZOFFSETFROM:+0200
TZOFFSETTO:+0100
TZNAME:CET
DTSTART:20251026T010000
END:STANDARD
BEGIN:DAYLIGHT
TZOFFSETFROM:+0100
TZOFFSETTO:+0200
TZNAME:CEST
DTSTART:20260329T010000
END:DAYLIGHT
BEGIN:STANDARD
TZOFFSETFROM:+0200
TZOFFSETTO:+0100
TZNAME:CET
DTSTART:20261025T010000
END:STANDARD
BEGIN:DAYLIGHT
TZOFFSETFROM:+0100
TZOFFSETTO:+0200
TZNAME:CEST
DTSTART:20270328T010000
END:DAYLIGHT
BEGIN:STANDARD
TZOFFSETFROM:+0200
TZOFFSETTO:+0100
TZNAME:CET
DTSTART:20271031T010000
END:STANDARD
END:VTIMEZONE
BEGIN:VEVENT
DTSTART;TZID=Europe/Paris:20260324T093000
DTEND;TZID=Europe/Paris:20260407T123000
DTSTAMP:20260420T101632
CREATED:20260331T130454Z
LAST-MODIFIED:20260401T131358Z
UID:10002993-1774344600-1775565000@www.vallet.fr
SUMMARY:Exposition de peintures
DESCRIPTION:L’artiste peintre et plasticienne Nathalie PAITEL exposera ses œuvres dans l’atrium de la mairie de Vallet. Son exposition s’intitule Le chaos apprivoisé.\n\n\n Horaires d’ouverture de la mairie
URL:https://www.vallet.fr/evenement/exposition-de-peintures-4/
ATTACH;FMTTYPE=image/jpeg:https://www.vallet.fr/wp-content/uploads/tribe_events/affiche-expo-vallet-V1.jpg
END:VEVENT
BEGIN:VEVENT
DTSTART;TZID=Europe/Paris:20260325T163000
DTEND;TZID=Europe/Paris:20260325T180000
DTSTAMP:20260420T101632
CREATED:20260115T151733Z
LAST-MODIFIED:20260115T151733Z
UID:10002895-1774456200-1774461600@www.vallet.fr
SUMMARY:Les mercredis du jeu
DESCRIPTION:Les mercredis du jeu \nTous les mercredis de 16h30 à 18h \nEntrée libre  \nChaque semaine\, la médiathèque vous donne rendez-vous pour Les Mercredis du Jeu\, un moment convivial dédié aux jeux de société\, aux jeux vidéo multijoueurs et à la découverte de la réalité virtuelle. \nPensé pour un public familial\, cet espace ludique permet de tester de nouveaux jeux\, de s’initier à différentes pratiques numériques et surtout… de jouer ensemble ! \nDes jeux de société pour tous les goûts (tout public) \nÀ chaque séance\, nous vous proposons une sélection de trois jeux de société. \nL’objectif : \n\nDécouvrir de nouveaux titres\,\nExplorer des mécaniques variées\,\nJouer en coopération ou en équipe.\nDes jeux faciles à prendre en main\, amusants et adaptés à un large public.\n\n  \nUn jeu vidéo différent chaque mercredi (à partir de 8 ans) \nPour la partie jeux vidéo\, la médiathèque met à disposition un jeu différent à chaque séance\, choisi parmi des titres multijoueurs ou coopératifs sur PS5 et Nintendo Switch. \nCourse\, cuisine déjantée\, danse\, sport ou combat : chaque mercredi réserve une nouvelle expérience ! \nLa réalité virtuelle : une fenêtre sur l’extraordinaire (ado-adulte) \nLes participants peuvent également s’initier à la réalité virtuelle grâce au Meta Quest 3. \nCette découverte guidée permet d’explorer des expériences immersives étonnantes\, accessibles et sécurisées. Le but n’est pas la performance\, mais l’émerveillement et la curiosité.
URL:https://www.vallet.fr/evenement/les-mercredis-du-jeu/2026-03-25/
LOCATION:Médiathèque
ATTACH;FMTTYPE=image/jpeg:https://www.vallet.fr/wp-content/uploads/tribe_events/board-games-coins-bills-dice-cards-1-scaled.jpg
END:VEVENT
END:VCALENDAR