BEGIN:VCALENDAR
VERSION:2.0
PRODID:-//Site de la commune de Vallet - ECPv6.15.18//NONSGML v1.0//EN
CALSCALE:GREGORIAN
METHOD:PUBLISH
X-WR-CALNAME:Site de la commune de Vallet
X-ORIGINAL-URL:https://www.vallet.fr
X-WR-CALDESC:Évènements pour Site de la commune de Vallet
REFRESH-INTERVAL;VALUE=DURATION:PT1H
X-Robots-Tag:noindex
X-PUBLISHED-TTL:PT1H
BEGIN:VTIMEZONE
TZID:Europe/Paris
BEGIN:DAYLIGHT
TZOFFSETFROM:+0100
TZOFFSETTO:+0200
TZNAME:CEST
DTSTART:20250330T010000
END:DAYLIGHT
BEGIN:STANDARD
TZOFFSETFROM:+0200
TZOFFSETTO:+0100
TZNAME:CET
DTSTART:20251026T010000
END:STANDARD
BEGIN:DAYLIGHT
TZOFFSETFROM:+0100
TZOFFSETTO:+0200
TZNAME:CEST
DTSTART:20260329T010000
END:DAYLIGHT
BEGIN:STANDARD
TZOFFSETFROM:+0200
TZOFFSETTO:+0100
TZNAME:CET
DTSTART:20261025T010000
END:STANDARD
BEGIN:DAYLIGHT
TZOFFSETFROM:+0100
TZOFFSETTO:+0200
TZNAME:CEST
DTSTART:20270328T010000
END:DAYLIGHT
BEGIN:STANDARD
TZOFFSETFROM:+0200
TZOFFSETTO:+0100
TZNAME:CET
DTSTART:20271031T010000
END:STANDARD
END:VTIMEZONE
BEGIN:VEVENT
DTSTART;TZID=Europe/Paris:20260414T140000
DTEND;TZID=Europe/Paris:20260428T123000
DTSTAMP:20260423T112202
CREATED:20260401T132228Z
LAST-MODIFIED:20260401T132228Z
UID:10003002-1776175200-1777379400@www.vallet.fr
SUMMARY:Exposition de Frédérique Menard
DESCRIPTION:Exposition intitulée « À la nuit tombée ».  \nMot de l’artiste :  \n« On ne devient soi que dans la rencontre avec l’autre\, et cela est universel\, quelle que soit notre culture. C’est cette croissance mutuelle et la VIE que célèbre cette série de tableaux. J’utilise l’acrylique en fond de toile\, y appose puis des motifs\, inspirés de tissus wax africains ou autres. Cet espace important de la toile la met en mouvement\, de manière très libre et intuitive. Des techniques mixtes peuvent s’inviter\, selon l’inspiration du moment (Posca etc). \nLorsque l’ensemble a séché\, et sans jamais savoir ce que cela va offrir au regard\, ce qui va apparaître in fine\, mon pinceau noircit la toile d’encre de Chine et des silhouettes se dessinent. Alors\, l’ombre\, la nuit\, forment une écrin à la vie de chacun et de tous\, dévoilant leur lien. De même que les étoiles sont présentes et invisibles en pleine journée\, les humains apparaissent.  \nIl n’y a rien à comprendre. Juste sentir ce que cela produit dans votre corps ». 
URL:https://www.vallet.fr/evenement/exposition-de-frederique-menard/
ATTACH;FMTTYPE=image/png:https://www.vallet.fr/wp-content/uploads/tribe_events/Affiche-expo-2026-A-LA-NUIT-TOMBEE.png
END:VEVENT
BEGIN:VEVENT
DTSTART;TZID=Europe/Paris:20260423T103000
DTEND;TZID=Europe/Paris:20260423T120000
DTSTAMP:20260423T112202
CREATED:20260401T094333Z
LAST-MODIFIED:20260401T094352Z
UID:10002997-1776940200-1776945600@www.vallet.fr
SUMMARY:Micro-fabrique à la Micro-Folie Vallet : Les fleurs à travers le siècle : de la Renaissance à Dior
DESCRIPTION:Les Micro-fabriques\, qu’est-ce que c’est ? Il s’agit d’un temps de découverte d’œuvres et d’échanges\, suivi d’un atelier créatif\, préparés et animés par la médiatrice de la Micro-Folie. \nÀ travers une sélection d’œuvres\, découvrez comment les fleurs ont inspiré des générations d’artistes. Du réalisme saisissant de Rachel Ruysch\, au symbolisme décoratif de Klimt en passant par l’univers floral du couturier Christian Dior\, voyagez à travers des représentations singulières de la flore dans l’art. Terminez cette exploration par la création de votre fleur en papier de soie ! \n  \nInfos pratiques :\nÀ noter : Le même contenu sera proposé sur chaque Micro-Fabrique.\nAccessibles de 3 à 99 ans\, les Micro-fabriques sont gratuites\, mais sur inscription obligatoire\, le nombre de places étant limité.\nPour vous inscrire : rendez-vous sur le site internet du Champilambart\, rubrique Micro-Folie et Programme.\nPour rappel\, chaque personne mineure doit obligatoirement être accompagnée d’un adulte.
URL:https://www.vallet.fr/evenement/micro-fabrique-a-la-micro-folie-vallet-les-fleurs-a-travers-le-siecle-de-la-renaissance-a-dior/2026-04-23/
LOCATION:Micro-Folie\, 13 route des Dorices\, Vallet\, 44330\, France
ATTACH;FMTTYPE=image/jpeg:https://www.vallet.fr/wp-content/uploads/tribe_events/IMG20250416110052-scaled.jpg
ORGANIZER;CN="Micro-Folie Vallet":MAILTO:microfolie@vallet.fr
END:VEVENT
BEGIN:VEVENT
DTSTART;TZID=Europe/Paris:20260427T143000
DTEND;TZID=Europe/Paris:20260427T170000
DTSTAMP:20260423T112202
CREATED:20260327T105645Z
LAST-MODIFIED:20260327T105645Z
UID:10002980-1777300200-1777309200@www.vallet.fr
SUMMARY:Conférence
DESCRIPTION:Conférence de Julie CLOAREC-MICHAUD : Rire et philosophie : le rire ne serait-il pas l’acte philosophique ultime ? \n\n\n\n\nConférence organisée par les amis de l’université et de la culture
URL:https://www.vallet.fr/evenement/conference-16/
LOCATION:Cinéma Le CEP\, 8 bd Evariste dejoie\, Vallet\, 44330\, France
ATTACH;FMTTYPE=image/jpeg:https://www.vallet.fr/wp-content/uploads/tribe_events/rire.jpg
ORGANIZER;CN="Les amis de l'universit%C3%A9 et de la culture":MAILTO:up.vallet@univ-nantes.fr
END:VEVENT
BEGIN:VEVENT
DTSTART;TZID=Europe/Paris:20260429T163000
DTEND;TZID=Europe/Paris:20260429T180000
DTSTAMP:20260423T112202
CREATED:20260115T151733Z
LAST-MODIFIED:20260115T151733Z
UID:10002900-1777480200-1777485600@www.vallet.fr
SUMMARY:Les mercredis du jeu
DESCRIPTION:Les mercredis du jeu \nTous les mercredis de 16h30 à 18h \nEntrée libre  \nChaque semaine\, la médiathèque vous donne rendez-vous pour Les Mercredis du Jeu\, un moment convivial dédié aux jeux de société\, aux jeux vidéo multijoueurs et à la découverte de la réalité virtuelle. \nPensé pour un public familial\, cet espace ludique permet de tester de nouveaux jeux\, de s’initier à différentes pratiques numériques et surtout… de jouer ensemble ! \nDes jeux de société pour tous les goûts (tout public) \nÀ chaque séance\, nous vous proposons une sélection de trois jeux de société. \nL’objectif : \n\nDécouvrir de nouveaux titres\,\nExplorer des mécaniques variées\,\nJouer en coopération ou en équipe.\nDes jeux faciles à prendre en main\, amusants et adaptés à un large public.\n\n  \nUn jeu vidéo différent chaque mercredi (à partir de 8 ans) \nPour la partie jeux vidéo\, la médiathèque met à disposition un jeu différent à chaque séance\, choisi parmi des titres multijoueurs ou coopératifs sur PS5 et Nintendo Switch. \nCourse\, cuisine déjantée\, danse\, sport ou combat : chaque mercredi réserve une nouvelle expérience ! \nLa réalité virtuelle : une fenêtre sur l’extraordinaire (ado-adulte) \nLes participants peuvent également s’initier à la réalité virtuelle grâce au Meta Quest 3. \nCette découverte guidée permet d’explorer des expériences immersives étonnantes\, accessibles et sécurisées. Le but n’est pas la performance\, mais l’émerveillement et la curiosité.
URL:https://www.vallet.fr/evenement/les-mercredis-du-jeu/2026-04-29/
LOCATION:Médiathèque
ATTACH;FMTTYPE=image/jpeg:https://www.vallet.fr/wp-content/uploads/tribe_events/board-games-coins-bills-dice-cards-1-scaled.jpg
END:VEVENT
END:VCALENDAR