BEGIN:VCALENDAR
VERSION:2.0
PRODID:-//Site de la commune de Vallet - ECPv6.15.18//NONSGML v1.0//EN
CALSCALE:GREGORIAN
METHOD:PUBLISH
X-ORIGINAL-URL:https://www.vallet.fr
X-WR-CALDESC:Évènements pour Site de la commune de Vallet
REFRESH-INTERVAL;VALUE=DURATION:PT1H
X-Robots-Tag:noindex
X-PUBLISHED-TTL:PT1H
BEGIN:VTIMEZONE
TZID:Europe/Paris
BEGIN:DAYLIGHT
TZOFFSETFROM:+0100
TZOFFSETTO:+0200
TZNAME:CEST
DTSTART:20240331T010000
END:DAYLIGHT
BEGIN:STANDARD
TZOFFSETFROM:+0200
TZOFFSETTO:+0100
TZNAME:CET
DTSTART:20241027T010000
END:STANDARD
BEGIN:DAYLIGHT
TZOFFSETFROM:+0100
TZOFFSETTO:+0200
TZNAME:CEST
DTSTART:20250330T010000
END:DAYLIGHT
BEGIN:STANDARD
TZOFFSETFROM:+0200
TZOFFSETTO:+0100
TZNAME:CET
DTSTART:20251026T010000
END:STANDARD
BEGIN:DAYLIGHT
TZOFFSETFROM:+0100
TZOFFSETTO:+0200
TZNAME:CEST
DTSTART:20260329T010000
END:DAYLIGHT
BEGIN:STANDARD
TZOFFSETFROM:+0200
TZOFFSETTO:+0100
TZNAME:CET
DTSTART:20261025T010000
END:STANDARD
END:VTIMEZONE
BEGIN:VEVENT
DTSTART;TZID=Europe/Paris:20251221T160000
DTEND;TZID=Europe/Paris:20251221T170000
DTSTAMP:20260425T141512
CREATED:20251201T104840Z
LAST-MODIFIED:20251201T104840Z
UID:10002878-1766332800-1766336400@www.vallet.fr
SUMMARY:Concert du chœur de Vallet
DESCRIPTION:🎶 [ 21 DÉCEMBRE – CHOEUR DE VALLET ] 🎶\n\n\n \n\n\nConcert du chœur de Vallet.\n\n\n \n\n\n🕜16h\n\n\n📍Eglise de Vallet\n\n\n \n\n 
URL:https://www.vallet.fr/evenement/concert-du-choeur-de-vallet/
LOCATION:Eglise de Vallet\, Place Charles de Gaulle\, Vallet\, 44330\, France
ATTACH;FMTTYPE=image/jpeg:https://www.vallet.fr/wp-content/uploads/tribe_events/choeur_vallet.jpg
END:VEVENT
END:VCALENDAR