BEGIN:VCALENDAR
VERSION:2.0
PRODID:-//Site de la commune de Vallet - ECPv6.15.18//NONSGML v1.0//EN
CALSCALE:GREGORIAN
METHOD:PUBLISH
X-WR-CALNAME:Site de la commune de Vallet
X-ORIGINAL-URL:https://www.vallet.fr
X-WR-CALDESC:Évènements pour Site de la commune de Vallet
REFRESH-INTERVAL;VALUE=DURATION:PT1H
X-Robots-Tag:noindex
X-PUBLISHED-TTL:PT1H
BEGIN:VTIMEZONE
TZID:Europe/Paris
BEGIN:DAYLIGHT
TZOFFSETFROM:+0100
TZOFFSETTO:+0200
TZNAME:CEST
DTSTART:20220327T010000
END:DAYLIGHT
BEGIN:STANDARD
TZOFFSETFROM:+0200
TZOFFSETTO:+0100
TZNAME:CET
DTSTART:20221030T010000
END:STANDARD
BEGIN:DAYLIGHT
TZOFFSETFROM:+0100
TZOFFSETTO:+0200
TZNAME:CEST
DTSTART:20230326T010000
END:DAYLIGHT
BEGIN:STANDARD
TZOFFSETFROM:+0200
TZOFFSETTO:+0100
TZNAME:CET
DTSTART:20231029T010000
END:STANDARD
BEGIN:DAYLIGHT
TZOFFSETFROM:+0100
TZOFFSETTO:+0200
TZNAME:CEST
DTSTART:20240331T010000
END:DAYLIGHT
BEGIN:STANDARD
TZOFFSETFROM:+0200
TZOFFSETTO:+0100
TZNAME:CET
DTSTART:20241027T010000
END:STANDARD
BEGIN:DAYLIGHT
TZOFFSETFROM:+0100
TZOFFSETTO:+0200
TZNAME:CEST
DTSTART:20250330T010000
END:DAYLIGHT
BEGIN:STANDARD
TZOFFSETFROM:+0200
TZOFFSETTO:+0100
TZNAME:CET
DTSTART:20251026T010000
END:STANDARD
END:VTIMEZONE
BEGIN:VEVENT
DTSTART;TZID=Europe/Paris:20240515T183000
DTEND;TZID=Europe/Paris:20240515T213000
DTSTAMP:20260423T151644
CREATED:20240424T134834Z
LAST-MODIFIED:20240424T134916Z
UID:10002717-1715797800-1715808600@www.vallet.fr
SUMMARY:Soirée jazz à l'Intervalle : concert suivi d'un bœuf participatif !
DESCRIPTION:L’Intervalle & L’école de musique Sèvre & Loire s’associent pour vous proposer une soirée jazz !  \nL’entrée est libre et gratuite. \nLes élèves des ateliers jazz de l’École de Musique Sèvre & Loire commenceront par un petit concert… Qui sera suivi d’un boeuf musical (concert improvisé) participatif ! \nPour le boeuf participatif : vous pouvez retrouver un répertoire qui pourra être joué le jour J en cliquant ici ! \n  \n \nInformations pratiques :  \n• Le bar de l’Intervalle sera ouvert avec de quoi boire un verre\, à petits prix.  \n• Une offre de petite restauration vous est également proposée\, sur réservation\, avec des box sandwich (et une option végétarienne) au menu ! Vous pourrez régler et récupérer votre repas au cours de la soirée\, au bar de l’Intervalle. Menu et réservation via le formulaire de réservation. \nDATE LIMITE POUR RÉSERVER VOTRE PETITE RESTAURATION : lundi 13 mai 2024\, 11h au plus tard. \n  \n 
URL:https://www.vallet.fr/evenement/soiree-jazz-a-lintervalle-concert-boeuf/
LOCATION:L’Intervalle\, 13 Route des Dorices\, Vallet\, 44330\, France
CATEGORIES:Sorties, culture, loisirs
ORGANIZER;CN="L'Intervalle":MAILTO:lintervalle@vallet.fr
END:VEVENT
BEGIN:VEVENT
DTSTART;TZID=Europe/Paris:20240312T190000
DTEND;TZID=Europe/Paris:20240312T213000
DTSTAMP:20260423T151644
CREATED:20240214T113911Z
LAST-MODIFIED:20240214T114157Z
UID:10002704-1710270000-1710279000@www.vallet.fr
SUMMARY:SOIRÉE SCRABBLE À L'INTERVALLE
DESCRIPTION:L’Intervalle et l’association Scrabble du Vignoble vous proposent une soirée Scrabble ! \nCLIQUEZ ICI pour accéder au formulaire d’inscription \n  \nLe Scrabble… Un jeu populaire et familial qu’on ne présente plus !  \nCette soirée sera l’occasion d’y jouer\, à votre rythme & avec vos proches et/ou d’autres personnes présentes ! \nLa soirée est ouverte aux débutant.e.s\, dans un esprit de découverte\, de partage et de convivialité donc n’hésitez pas à y participer\, que vous soyez seul.e\, entre ami.e.s ou en famille ! \nL’entrée est gratuite et ouverte à toutes et tous\, sur inscription au préalable via ce formulaire (nombre de places limité). \nDATE LIMITE POUR VOUS INSCRIRE : vendredi 8 mars 2024\, 14h au plus tard et dans la limite des places disponibles. \n  \n► Pour celles et ceux qui le souhaitent\, l’association Scrabble du Vignoble vous proposera de vous initier au Duplicate\, une variante du jeu classique\, dans lequel vous vous battez contre la montre pour essayer de trouver le mot qui vous donnera le + de points possibles\, avec un tirage unique ! \n►► CHALLENGE : Pour les + compétitifs et pour celles et ceux qui auront envie de relever le défi\, un « challenge Scrabble Duplicate » sera proposé de 20h30 à 21h : essayez de trouver les meilleurs mots\, pour gagner un lot ! (Hé oui\, une petite récompense est prévue pour le/la gagant.e ! 😉 \n  \nINFOS PRATIQUES  \n• Âge minimum conseillé : 8 ans. Il est en effet indispensable de savoir écrire et de disposer d’un peu de vocabulaire pour pouvoir participer et profiter du jeu.  \n• Le bar de l’Intervalle sera ouvert avec de quoi boire un verre\, à petits prix.  \nAttention\, il n’y aura pas d’offre de restauration complète pour dîner sur place. \n• Cette soirée Scrabble n’est pas un tournoi : l’idée est de se retrouver pour jouer ensemble\, sans classement ni « organisation spécifique »\, hormis pour le Challenge Scrabble Duplicate de 20h30 ! 😉 Le petit + est de pouvoir profiter de la présence de l’association Scrabble du Vignoble\, qui animera la soirée et qui sera là pour vous guider\, répondre à vos questions\, et vous faire découvrir le Duplicate\, si vous le souhaitez. \nVous recevrez un mail qui confirmera votre inscription après avoir complété le formulaire. \n\n📍 L’Intervalle\, au Champilambart\n\n\n📅Mardi 12 mars 2024\n\n\n🧒 Accessible à partir de 8 ans\n\n\n🧐 Gratuit\, sur inscription au préalable : cliquez ici !\n\n 
URL:https://www.vallet.fr/evenement/soiree-scrabble-a-lintervalle/
LOCATION:L’Intervalle\, 13 Route des Dorices\, Vallet\, 44330\, France
ORGANIZER;CN="L'Intervalle":MAILTO:lintervalle@vallet.fr
END:VEVENT
BEGIN:VEVENT
DTSTART;TZID=Europe/Paris:20240307T140000
DTEND;TZID=Europe/Paris:20240307T170000
DTSTAMP:20260423T151644
CREATED:20240126T151059Z
LAST-MODIFIED:20240126T151333Z
UID:10002696-1709820000-1709830800@www.vallet.fr
SUMMARY:ATELIER FRESQUE DU CLIMAT À L’INTERVALLE
DESCRIPTION:[ JEUDI 7 MARS 2024\, DE 14H À 17H : PARTICIPEZ À UN ATELIER FRESQUE DU CLIMAT À L’INTERVALLE ]  \nL’Intervalle & l’Amicale Laïque de Vallet vous proposent un atelier Fresque du Climat ! \n  \nUNE FRESQUE DU CLIMAT*\, QU’EST-CE QUE C’EST ? \nIl s’agit d’un atelier ludique et collaboratif de 3 heures\, qui se présente sous la forme d’un jeu de cartes\, et qui vous amènera collectivement à mieux comprendre les causes et les conséquences des changements climatiques. \nUn animateur\, agréé par l’association de la Fresque du Climat et qui fait partie de l’Amicale Laïque de Vallet\, soucieuse de contribuer à l’éducation populaire\, sera là pour vous guider durant ce jeu\, basé sur l’intelligence collective !  \nL’accès à cet atelier est gratuit\, sur inscription au préalable via ce formulaire (nombre de places limité). \n  \nINFORMATIONS PRATIQUES :  \n• Nous conseillons cette soirée aux personnes âgées de 14 ans minimum.  \nNous pourrons accueillir jusqu’à 12 participant.e.s maximum.  \n• Une pause sera proposée au milieu de l’atelier. Le bar de l’Intervalle sera ouvert avec la carte habituelle et donc de quoi boire un verre et grignoter\, à petit prix. \n• Une grande table sera réservée pour cet atelier\, dans l’Intervalle. À noter que l’espace sera également ouvert à toutes et tous sur ce créneau\, dans les conditions habituelles. \n• Merci par avance aux participant.e.s de s’engager à rester durant toute la durée de l’atelier. (Mais pas d’inquiétude\, le temps passe vite puisque vous y participez pleinement !) \n• Pour mieux comprendre le déroulé de l’atelier\, cliquez ici pour accéder à une vidéo de présentation de La Fresque du Climat !  \n  \n*La Fresque du Climat est un jeu qui a été créé en 2018 et qui est fondé sur les données issues des rapports scientifiques du GIEC (Groupe d’experts intergouvernemental sur l’évolution du climat)\, dont les recommandations orientent les décisions politiques et économiques à l’échelle mondiale. \n  \nVous recevrez un mail qui confirmera votre inscription après avoir complété le formulaire. \n  \n\n📍 L’Intervalle\, au Champilambart\n\n\n📅 Mardi 6 février 2024\n\n\n🧒 Accessible à partir de 14 ans\, 12 participant.e.s maximum\n\n\n🧐 Gratuit\, sur inscription au préalable : cliquez ici !
URL:https://www.vallet.fr/evenement/atelier-fresque-du-climat-a-lintervalle-2/
LOCATION:L’Intervalle\, 13 Route des Dorices\, Vallet\, 44330\, France
ORGANIZER;CN="L'Intervalle":MAILTO:lintervalle@vallet.fr
END:VEVENT
BEGIN:VEVENT
DTSTART;TZID=Europe/Paris:20240206T190000
DTEND;TZID=Europe/Paris:20240206T220000
DTSTAMP:20260423T151644
CREATED:20240122T151518Z
LAST-MODIFIED:20240122T151518Z
UID:10002695-1707246000-1707256800@www.vallet.fr
SUMMARY:Atelier Fresque du Climat à l'Intervalle
DESCRIPTION:[ MARDI 6 FÉVRIER 2024\, DE 19H À 22H : PARTICIPEZ À UN ATELIER FRESQUE DU CLIMAT À L’INTERVALLE ]  \nL’Intervalle & l’Amicale Laïque de Vallet vous proposent un atelier Fresque du Climat ! \n  \nUNE FRESQUE DU CLIMAT*\, QU’EST-CE QUE C’EST ? \nIl s’agit d’un atelier ludique et collaboratif de 3 heures\, qui se présente sous la forme d’un jeu de cartes\, et qui vous amènera collectivement à mieux comprendre les causes et les conséquences des changements climatiques. \nUn animateur\, agréé par l’association de la Fresque du Climat et qui fait partie de l’Amicale Laïque de Vallet\, soucieuse de contribuer à l’éducation populaire\, sera là pour vous guider durant ce jeu\, basé sur l’intelligence collective !  \nL’accès à cet atelier est gratuit\, sur inscription au préalable via ce formulaire (nombre de places limité). \n  \nINFORMATIONS PRATIQUES :  \n• Nous conseillons cette soirée aux personnes âgées de 14 ans minimum.  \nNous pourrons accueillir jusqu’à 12 participant.e.s maximum.  \n• Étant donné l’horaire de l’atelier\, une pause sera proposée au milieu de l’atelier. Vous pourrez apporter des choses à grignoter et à partager si vous le souhaitez\, pour la pause. Côté boissons\, le bar de l’Intervalle sera ouvert avec la carte habituelle et donc de quoi boire un verre\, à petit prix.  \n• Merci par avance aux participant.e.s de s’engager à rester durant toute la durée de l’atelier. (Mais pas d’inquiétude\, le temps passe vite puisque vous y participez pleinement !) \n• Pour mieux comprendre le déroulé de l’atelier\, cliquez ici pour accéder à une vidéo de présentation de La Fresque du Climat !  \n  \n*La Fresque du Climat est un jeu qui a été créé en 2018 et qui est fondé sur les données issues des rapports scientifiques du GIEC (Groupe d’experts intergouvernemental sur l’évolution du climat)\, dont les recommandations orientent les décisions politiques et économiques à l’échelle mondiale. \n  \nVous recevrez un mail qui confirmera votre inscription après avoir complété le formulaire. \n  \n\n📍 L’Intervalle\, au Champilambart\n\n\n📅 Mardi 6 février 2024\n\n\n🧒 Accessible à partir de 14 ans\, 12 participant.e.s maximum\n\n\n🧐 Gratuit\, sur inscription au préalable : cliquez ici !\n\n 
URL:https://www.vallet.fr/evenement/atelier-fresque-du-climat-a-lintervalle/
LOCATION:L’Intervalle\, 13 Route des Dorices\, Vallet\, 44330\, France
ORGANIZER;CN="L'Intervalle":MAILTO:lintervalle@vallet.fr
END:VEVENT
BEGIN:VEVENT
DTSTART;TZID=Europe/Paris:20231107T120000
DTEND;TZID=Europe/Paris:20231123T183000
DTSTAMP:20260423T151644
CREATED:20231026T124923Z
LAST-MODIFIED:20231026T125126Z
UID:10002673-1699358400-1700764200@www.vallet.fr
SUMMARY:Exposition à l'Intervalle - Hellfest : enquête sur la production
DESCRIPTION:Découvrez une exposition interactive sur la production du Hellfest & plongez dans l’envers du décor du plus gros festival de métal d’Europe et de France ! \nDébut 2023\, les élèves de trois classes de Seconde du lycée Aimé-Césaire à Clisson\, en collaboration avec Hellfest Productions\, ont enquêté sur la production du Hellfest\, dans l’objectif de comprendre le fonctionnement de cette organisation productive et son impact sur son environnement économique et social. \nCe travail a été mené dans le cadre de la spécialité Sciences Économiques et Sociales\, avec l’enseignante Mme Pinson. Les trois classes ont en effet décidé de s’appuyer sur cet exemple concret comme objet d’étude\, pour étudier le chapitre intitulé « Comment crée-t-on des richesses et comment les mesure-t-on ? ». Pour se répartir le travail\, les élèves de la classe de 2ndeD étaient chargés d’interviewer les organisateurs afin de réaliser un contenu audio ainsi que des podcasts destinés au site de leur radio. Pour cela\, ils ont été aidés par Mme Brosseau\, professeure d’Histoire-Géographie\, et animatrice de Radio16R. Les élèves des classes de 2ndeG et de 2ndeI ont ensuite exploité ces interviews et poursuivi les recherches afin de réaliser les panneaux d’exposition. \nCette étude de longue haleine a ainsi abouti à la réalisation de cette exposition collaborative\, incluant des supports radiophoniques de l’ensemble des intervenants sur ce projet (membres de Hellfest Productions\, maire de Clisson\, directeur de la grande surface attenant au Hellfest\, artistes chanteur et sculptrice\, membre des forces de l’ordre\, bénévoles…). \nVous êtes donc invités à venir la découvrir sur les horaires d’ouverture de l’Intervalle\, en accès libre. \n► Pensez à vous munir d’un téléphone portable et d’écouteurs pour scanner les QRCodes et accéder aux interviews à écouter. \n+ d’infos en cliquant ici !
URL:https://www.vallet.fr/evenement/exposition-a-lintervalle-hellfest-enquete-sur-la-production/
LOCATION:L’Intervalle\, 13 Route des Dorices\, Vallet\, 44330\, France
CATEGORIES:Sorties, culture, loisirs
ORGANIZER;CN="L'Intervalle":MAILTO:lintervalle@vallet.fr
END:VEVENT
BEGIN:VEVENT
DTSTART;TZID=Europe/Paris:20230710T140000
DTEND;TZID=Europe/Paris:20230710T173000
DTSTAMP:20260423T151644
CREATED:20230628T070745Z
LAST-MODIFIED:20230628T071004Z
UID:10002643-1688997600-1689010200@www.vallet.fr
SUMMARY:Après-midi jeux de société à l'Intervalle
DESCRIPTION:Venez profiter d’un après-midi jeux de société\, dans une ambiance chaleureuse et conviviale ! \n \nEn partenariat avec le magasin Valletais À qui de jouer\, l’Intervalle vous propose un après-midi jeux de société ! \nSeul.e\, en famille ou entre ami.e.s\, venez découvrir des jeux et profiter d’une sélection qui vous sera spécialement proposée pour cet événement ! Pour quelques minutes ou tout l’après-midi\, vous êtes les bienvenu.e.s ! Charlotte\, d’À qui de jouer\, sera là pour vous présenter les jeux et vous en expliquer les règles.  \nLe bar sera également ouvert avec la carte habituelle. \nL’entrée est libre et ouverte à toutes et tous. N’hésitez pas à en parler autour de vous !! \nPour toutes questions\, contactez-nous à lintervalle@vallet.fr
URL:https://www.vallet.fr/evenement/apres-midi-jeux-de-societe-a-lintervalle/
LOCATION:L’Intervalle\, 13 Route des Dorices\, Vallet\, 44330\, France
ORGANIZER;CN="L'Intervalle":MAILTO:lintervalle@vallet.fr
END:VEVENT
BEGIN:VEVENT
DTSTART;TZID=Europe/Paris:20230524T140000
DTEND;TZID=Europe/Paris:20230524T170000
DTSTAMP:20260423T151644
CREATED:20230515T134822Z
LAST-MODIFIED:20230515T140221Z
UID:10002629-1684936800-1684947600@www.vallet.fr
SUMMARY:Initiation à la sophrologie à l'Intervalle
DESCRIPTION:Le mercredi 24 mai\, de 14h à 17h\, l’Intervalle organise des initiations à la sophrologie. Gratuit\, sur inscription et chaque initiation est individuelle et d’une durée de 30minutes. Inscriptions : https://urlz.fr/lRYs \n  \nPlus d’infos : Initiations à la sophrologie (champilambart.fr) \n 
URL:https://www.vallet.fr/evenement/initiation-a-la-sophrologie-a-lintervalle/
LOCATION:L’Intervalle\, 13 Route des Dorices\, Vallet\, 44330\, France
CATEGORIES:Sorties, culture, loisirs
ATTACH;FMTTYPE=image/jpeg:https://www.vallet.fr/wp-content/uploads/tribe_events/mudra-hand-gesture-closeup-scaled.jpg
END:VEVENT
BEGIN:VEVENT
DTSTART;TZID=Europe/Paris:20230308T080000
DTEND;TZID=Europe/Paris:20230308T200000
DTSTAMP:20260423T151644
CREATED:20230209T100754Z
LAST-MODIFIED:20230209T101628Z
UID:10002602-1678262400-1678305600@www.vallet.fr
SUMMARY:Concert de jazz
DESCRIPTION:Rendez-vous à l’Intervalle pour profiter du concert Coltrane : Our favorite things du groupe Interphazz\, qui réunit quatre musiciens tous amoureux de la note bleue. Concert gratuit\, dans le cadre d’un projet plus large de l’école de musique intercommunale Sèvre et Loire et du Projet Culture de Territoire.
URL:https://www.vallet.fr/evenement/44824/
LOCATION:L’Intervalle\, 13 Route des Dorices\, Vallet\, 44330\, France
CATEGORIES:Sorties, culture, loisirs,Spectacles, festivals
ATTACH;FMTTYPE=image/jpeg:https://www.vallet.fr/wp-content/uploads/tribe_events/young-man-playing-saxophone.jpg
ORGANIZER;CN="L'Intervalle":MAILTO:lintervalle@vallet.fr
END:VEVENT
END:VCALENDAR