BEGIN:VCALENDAR
VERSION:2.0
PRODID:-//Site de la commune de Vallet - ECPv6.15.18//NONSGML v1.0//EN
CALSCALE:GREGORIAN
METHOD:PUBLISH
X-WR-CALNAME:Site de la commune de Vallet
X-ORIGINAL-URL:https://www.vallet.fr
X-WR-CALDESC:Évènements pour Site de la commune de Vallet
REFRESH-INTERVAL;VALUE=DURATION:PT1H
X-Robots-Tag:noindex
X-PUBLISHED-TTL:PT1H
BEGIN:VTIMEZONE
TZID:Europe/Paris
BEGIN:DAYLIGHT
TZOFFSETFROM:+0100
TZOFFSETTO:+0200
TZNAME:CEST
DTSTART:20240331T010000
END:DAYLIGHT
BEGIN:STANDARD
TZOFFSETFROM:+0200
TZOFFSETTO:+0100
TZNAME:CET
DTSTART:20241027T010000
END:STANDARD
BEGIN:DAYLIGHT
TZOFFSETFROM:+0100
TZOFFSETTO:+0200
TZNAME:CEST
DTSTART:20250330T010000
END:DAYLIGHT
BEGIN:STANDARD
TZOFFSETFROM:+0200
TZOFFSETTO:+0100
TZNAME:CET
DTSTART:20251026T010000
END:STANDARD
BEGIN:DAYLIGHT
TZOFFSETFROM:+0100
TZOFFSETTO:+0200
TZNAME:CEST
DTSTART:20260329T010000
END:DAYLIGHT
BEGIN:STANDARD
TZOFFSETFROM:+0200
TZOFFSETTO:+0100
TZNAME:CET
DTSTART:20261025T010000
END:STANDARD
BEGIN:DAYLIGHT
TZOFFSETFROM:+0100
TZOFFSETTO:+0200
TZNAME:CEST
DTSTART:20270328T010000
END:DAYLIGHT
BEGIN:STANDARD
TZOFFSETFROM:+0200
TZOFFSETTO:+0100
TZNAME:CET
DTSTART:20271031T010000
END:STANDARD
END:VTIMEZONE
BEGIN:VEVENT
DTSTART;TZID=Europe/Paris:20260211T163000
DTEND;TZID=Europe/Paris:20260211T180000
DTSTAMP:20260423T112803
CREATED:20260115T151733Z
LAST-MODIFIED:20260115T151733Z
UID:10002889-1770827400-1770832800@www.vallet.fr
SUMMARY:Les mercredis du jeu
DESCRIPTION:Les mercredis du jeu \nTous les mercredis de 16h30 à 18h \nEntrée libre  \nChaque semaine\, la médiathèque vous donne rendez-vous pour Les Mercredis du Jeu\, un moment convivial dédié aux jeux de société\, aux jeux vidéo multijoueurs et à la découverte de la réalité virtuelle. \nPensé pour un public familial\, cet espace ludique permet de tester de nouveaux jeux\, de s’initier à différentes pratiques numériques et surtout… de jouer ensemble ! \nDes jeux de société pour tous les goûts (tout public) \nÀ chaque séance\, nous vous proposons une sélection de trois jeux de société. \nL’objectif : \n\nDécouvrir de nouveaux titres\,\nExplorer des mécaniques variées\,\nJouer en coopération ou en équipe.\nDes jeux faciles à prendre en main\, amusants et adaptés à un large public.\n\n  \nUn jeu vidéo différent chaque mercredi (à partir de 8 ans) \nPour la partie jeux vidéo\, la médiathèque met à disposition un jeu différent à chaque séance\, choisi parmi des titres multijoueurs ou coopératifs sur PS5 et Nintendo Switch. \nCourse\, cuisine déjantée\, danse\, sport ou combat : chaque mercredi réserve une nouvelle expérience ! \nLa réalité virtuelle : une fenêtre sur l’extraordinaire (ado-adulte) \nLes participants peuvent également s’initier à la réalité virtuelle grâce au Meta Quest 3. \nCette découverte guidée permet d’explorer des expériences immersives étonnantes\, accessibles et sécurisées. Le but n’est pas la performance\, mais l’émerveillement et la curiosité.
URL:https://www.vallet.fr/evenement/les-mercredis-du-jeu/2026-02-11/
LOCATION:Médiathèque
ATTACH;FMTTYPE=image/jpeg:https://www.vallet.fr/wp-content/uploads/tribe_events/board-games-coins-bills-dice-cards-1-scaled.jpg
END:VEVENT
BEGIN:VEVENT
DTSTART;TZID=Europe/Paris:20260211T103000
DTEND;TZID=Europe/Paris:20260211T110000
DTSTAMP:20260423T112803
CREATED:20260205T143719Z
LAST-MODIFIED:20260205T143719Z
UID:10002965-1770805800-1770807600@www.vallet.fr
SUMMARY:L'heure du conte
DESCRIPTION:Venez écouter des histoires\, chanter et découvrir des albums avec les bénévoles de la médiathèque.\n \n\n\n De 10h30 à 11h\n Médiathèque\n Enfants de 0 à 3 ans accompagnés d’un adulte\n Sur inscription auprès de la médiathèque
URL:https://www.vallet.fr/evenement/lheure-du-conte-18/
LOCATION:Médiathèque
ATTACH;FMTTYPE=image/jpeg:https://www.vallet.fr/wp-content/uploads/tribe_events/Capture-decran-2025-02-05-154624.jpg
END:VEVENT
BEGIN:VEVENT
DTSTART;TZID=Europe/Paris:20260204T163000
DTEND;TZID=Europe/Paris:20260204T180000
DTSTAMP:20260423T112803
CREATED:20260115T151733Z
LAST-MODIFIED:20260115T151733Z
UID:10002888-1770222600-1770228000@www.vallet.fr
SUMMARY:Les mercredis du jeu
DESCRIPTION:Les mercredis du jeu \nTous les mercredis de 16h30 à 18h \nEntrée libre  \nChaque semaine\, la médiathèque vous donne rendez-vous pour Les Mercredis du Jeu\, un moment convivial dédié aux jeux de société\, aux jeux vidéo multijoueurs et à la découverte de la réalité virtuelle. \nPensé pour un public familial\, cet espace ludique permet de tester de nouveaux jeux\, de s’initier à différentes pratiques numériques et surtout… de jouer ensemble ! \nDes jeux de société pour tous les goûts (tout public) \nÀ chaque séance\, nous vous proposons une sélection de trois jeux de société. \nL’objectif : \n\nDécouvrir de nouveaux titres\,\nExplorer des mécaniques variées\,\nJouer en coopération ou en équipe.\nDes jeux faciles à prendre en main\, amusants et adaptés à un large public.\n\n  \nUn jeu vidéo différent chaque mercredi (à partir de 8 ans) \nPour la partie jeux vidéo\, la médiathèque met à disposition un jeu différent à chaque séance\, choisi parmi des titres multijoueurs ou coopératifs sur PS5 et Nintendo Switch. \nCourse\, cuisine déjantée\, danse\, sport ou combat : chaque mercredi réserve une nouvelle expérience ! \nLa réalité virtuelle : une fenêtre sur l’extraordinaire (ado-adulte) \nLes participants peuvent également s’initier à la réalité virtuelle grâce au Meta Quest 3. \nCette découverte guidée permet d’explorer des expériences immersives étonnantes\, accessibles et sécurisées. Le but n’est pas la performance\, mais l’émerveillement et la curiosité.
URL:https://www.vallet.fr/evenement/les-mercredis-du-jeu/2026-02-04/
LOCATION:Médiathèque
ATTACH;FMTTYPE=image/jpeg:https://www.vallet.fr/wp-content/uploads/tribe_events/board-games-coins-bills-dice-cards-1-scaled.jpg
END:VEVENT
BEGIN:VEVENT
DTSTART;TZID=Europe/Paris:20260130T190000
DTEND;TZID=Europe/Paris:20260130T220000
DTSTAMP:20260423T112803
CREATED:20260115T153955Z
LAST-MODIFIED:20260115T153955Z
UID:10002962-1769799600-1769810400@www.vallet.fr
SUMMARY:Soirée jeux
DESCRIPTION:Préparez vos dés et affûtez votre sens critique : votre médiathèque vous invite à une soirée ludique !\n\n\nVenez découvrir la sélection des jeux en compétition et voter pour votre favori lors d’une soirée conviviale !\n\n\n \n\n\n📍 Médiathèque\n\n\n🕜 De 19h à 22h\n\n\n🦋 Entrée libre
URL:https://www.vallet.fr/evenement/soiree-jeux-3/
LOCATION:Médiathèque
ATTACH;FMTTYPE=image/jpeg:https://www.vallet.fr/wp-content/uploads/tribe_events/close-up-yahtzee-game-white-table-scaled.jpg
END:VEVENT
BEGIN:VEVENT
DTSTART;TZID=Europe/Paris:20260128T163000
DTEND;TZID=Europe/Paris:20260128T180000
DTSTAMP:20260423T112803
CREATED:20260115T151733Z
LAST-MODIFIED:20260115T151733Z
UID:10002887-1769617800-1769623200@www.vallet.fr
SUMMARY:Les mercredis du jeu
DESCRIPTION:Les mercredis du jeu \nTous les mercredis de 16h30 à 18h \nEntrée libre  \nChaque semaine\, la médiathèque vous donne rendez-vous pour Les Mercredis du Jeu\, un moment convivial dédié aux jeux de société\, aux jeux vidéo multijoueurs et à la découverte de la réalité virtuelle. \nPensé pour un public familial\, cet espace ludique permet de tester de nouveaux jeux\, de s’initier à différentes pratiques numériques et surtout… de jouer ensemble ! \nDes jeux de société pour tous les goûts (tout public) \nÀ chaque séance\, nous vous proposons une sélection de trois jeux de société. \nL’objectif : \n\nDécouvrir de nouveaux titres\,\nExplorer des mécaniques variées\,\nJouer en coopération ou en équipe.\nDes jeux faciles à prendre en main\, amusants et adaptés à un large public.\n\n  \nUn jeu vidéo différent chaque mercredi (à partir de 8 ans) \nPour la partie jeux vidéo\, la médiathèque met à disposition un jeu différent à chaque séance\, choisi parmi des titres multijoueurs ou coopératifs sur PS5 et Nintendo Switch. \nCourse\, cuisine déjantée\, danse\, sport ou combat : chaque mercredi réserve une nouvelle expérience ! \nLa réalité virtuelle : une fenêtre sur l’extraordinaire (ado-adulte) \nLes participants peuvent également s’initier à la réalité virtuelle grâce au Meta Quest 3. \nCette découverte guidée permet d’explorer des expériences immersives étonnantes\, accessibles et sécurisées. Le but n’est pas la performance\, mais l’émerveillement et la curiosité.
URL:https://www.vallet.fr/evenement/les-mercredis-du-jeu/2026-01-28/
LOCATION:Médiathèque
ATTACH;FMTTYPE=image/jpeg:https://www.vallet.fr/wp-content/uploads/tribe_events/board-games-coins-bills-dice-cards-1-scaled.jpg
END:VEVENT
BEGIN:VEVENT
DTSTART;TZID=Europe/Paris:20260121T163000
DTEND;TZID=Europe/Paris:20260121T180000
DTSTAMP:20260423T112803
CREATED:20260115T151733Z
LAST-MODIFIED:20260115T151733Z
UID:10002886-1769013000-1769018400@www.vallet.fr
SUMMARY:Les mercredis du jeu
DESCRIPTION:Les mercredis du jeu \nTous les mercredis de 16h30 à 18h \nEntrée libre  \nChaque semaine\, la médiathèque vous donne rendez-vous pour Les Mercredis du Jeu\, un moment convivial dédié aux jeux de société\, aux jeux vidéo multijoueurs et à la découverte de la réalité virtuelle. \nPensé pour un public familial\, cet espace ludique permet de tester de nouveaux jeux\, de s’initier à différentes pratiques numériques et surtout… de jouer ensemble ! \nDes jeux de société pour tous les goûts (tout public) \nÀ chaque séance\, nous vous proposons une sélection de trois jeux de société. \nL’objectif : \n\nDécouvrir de nouveaux titres\,\nExplorer des mécaniques variées\,\nJouer en coopération ou en équipe.\nDes jeux faciles à prendre en main\, amusants et adaptés à un large public.\n\n  \nUn jeu vidéo différent chaque mercredi (à partir de 8 ans) \nPour la partie jeux vidéo\, la médiathèque met à disposition un jeu différent à chaque séance\, choisi parmi des titres multijoueurs ou coopératifs sur PS5 et Nintendo Switch. \nCourse\, cuisine déjantée\, danse\, sport ou combat : chaque mercredi réserve une nouvelle expérience ! \nLa réalité virtuelle : une fenêtre sur l’extraordinaire (ado-adulte) \nLes participants peuvent également s’initier à la réalité virtuelle grâce au Meta Quest 3. \nCette découverte guidée permet d’explorer des expériences immersives étonnantes\, accessibles et sécurisées. Le but n’est pas la performance\, mais l’émerveillement et la curiosité.
URL:https://www.vallet.fr/evenement/les-mercredis-du-jeu/2026-01-21/
LOCATION:Médiathèque
ATTACH;FMTTYPE=image/jpeg:https://www.vallet.fr/wp-content/uploads/tribe_events/board-games-coins-bills-dice-cards-1-scaled.jpg
END:VEVENT
BEGIN:VEVENT
DTSTART;TZID=Europe/Paris:20260121T103000
DTEND;TZID=Europe/Paris:20260121T110000
DTSTAMP:20260423T112803
CREATED:20251230T110209Z
LAST-MODIFIED:20251230T110231Z
UID:10002884-1768991400-1768993200@www.vallet.fr
SUMMARY:L'heure du conte
DESCRIPTION:Un moment tout en douceur pour partager des histoires\, chansons et jeux de doigts avec les bénévoles. Venez découvrir le plaisir de lire et de chanter avec votre enfant. Sur inscription auprès de la médiathèque\, pour les enfants de 0 à 3 ans accompagnés d’un parent. 10h30\, durée 25 minutes.
URL:https://www.vallet.fr/evenement/lheure-du-conte-17/
LOCATION:Médiathèque
ATTACH;FMTTYPE=image/jpeg:https://www.vallet.fr/wp-content/uploads/tribe_events/Capture-decran-2025-02-05-154624.jpg
END:VEVENT
BEGIN:VEVENT
DTSTART;TZID=Europe/Paris:20251220T103000
DTEND;TZID=Europe/Paris:20251220T110000
DTSTAMP:20260423T112803
CREATED:20251201T100256Z
LAST-MODIFIED:20251201T100256Z
UID:10002876-1766226600-1766228400@www.vallet.fr
SUMMARY:L'heure du conte de Noël
DESCRIPTION:Venez écouter de belles histoires racontées par les bénévoles dans la magie de Noël ! En présence du Père Noël.\n\n\n \n\n\n10h30 \n\n\nMédiathèque\n\n\nenfants de 2 à 6 ans accompagnés d’un adulte\n\n\nPlus d’informations auprès de la médiathèque
URL:https://www.vallet.fr/evenement/lheure-du-conte-de-noel/
LOCATION:Médiathèque
ATTACH;FMTTYPE=image/jpeg:https://www.vallet.fr/wp-content/uploads/tribe_events/Capture-decran-2025-12-01-110210.jpg
END:VEVENT
BEGIN:VEVENT
DTSTART;TZID=Europe/Paris:20251210T103000
DTEND;TZID=Europe/Paris:20251210T105500
DTSTAMP:20260423T112803
CREATED:20251119T163202Z
LAST-MODIFIED:20251119T163202Z
UID:10002874-1765362600-1765364100@www.vallet.fr
SUMMARY:L'heure du conte
DESCRIPTION:📖 [ 10 DÉCEMBRE – L’HEURE DU CONTE ] 📖\n\n\n \n\n\nUn moment tout en douceur pour partager des histoires\, chansons et jeux de doigts.\n\n\nVenez découvrir le plaisir de lire et de chanter avec votre enfant ! Par les bénévoles de la médiathèque de Vallet\n\n\n \n\n\n📍 Médiathèque \n\n\n🕜 10h30\, durée 25 mn\n\n\n⚠️ Sur inscription auprès de la médiathèque\, enfants de 0 à 3 ans accompagnés d’un parent\n\n 
URL:https://www.vallet.fr/evenement/lheure-du-conte-16/
LOCATION:Médiathèque
ATTACH;FMTTYPE=image/jpeg:https://www.vallet.fr/wp-content/uploads/tribe_events/Capture-decran-2025-02-05-154624.jpg
END:VEVENT
BEGIN:VEVENT
DTSTART;VALUE=DATE:20251207
DTEND;VALUE=DATE:20251208
DTSTAMP:20260423T112803
CREATED:20251119T160752Z
LAST-MODIFIED:20251124T145212Z
UID:10002875-1765099800-1765128600@www.vallet.fr
SUMMARY:Téléthon
DESCRIPTION:Vente de livres\nLes bénévoles vous invitent à participer à une vente solidaire de livres au profit du Téléthon. Venez chiner parmi une large sélection d’ouvrages et contribuez à une belle cause ! \nsamedi 6 décembre 2025 de 10h à 12h et de 14h à 16h \ndimanche 7 décembre de 10h à 12h \nActions à Hyper U \nRendez-vous à Hyper U du 4 au 6 décembre avec les traditionnelles confitures maison\, l’opération « ticket 1€» et les enveloppes surprises (toutes gagnantes) avec de nombreux lots à gagner. \nMarché de Noël \nLors du marché de Noël de Vallet\, les 6 et 7 décembre\, l’association tiendra le stand bar – restauration sucrée avec notamment des crêpes au caramel beurre salé et du vin chaud* ! Nouveauté : la fabrication de confitures en direct
URL:https://www.vallet.fr/evenement/vente-de-livres-au-profit-du-telethon/2025-12-07/
LOCATION:Médiathèque
ATTACH;FMTTYPE=image/jpeg:https://www.vallet.fr/wp-content/uploads/tribe_events/P1025197-scaled.jpg
END:VEVENT
BEGIN:VEVENT
DTSTART;TZID=Europe/Paris:20251206T143000
DTEND;TZID=Europe/Paris:20251206T180000
DTSTAMP:20260423T112803
CREATED:20251119T160313Z
LAST-MODIFIED:20251119T160313Z
UID:10002870-1765031400-1765044000@www.vallet.fr
SUMMARY:Après-midi jeux
DESCRIPTION:[ 6 DÉCEMBRE – APRÈS-MIDI JEUX ] \n \n\n\nEnvie de jouer\, de rire et de passer un bon moment sans prise de tête ? La médiathèque vous invite à une animation spéciale jeux d’ambiance pour petits et grands !\n \n\n\nMédiathèque\n De 14h30-18h\n Tout public
URL:https://www.vallet.fr/evenement/apres-midi-jeux/
LOCATION:Médiathèque
ATTACH;FMTTYPE=image/jpeg:https://www.vallet.fr/wp-content/uploads/tribe_events/board-games-coins-bills-dice-cards-1-scaled.jpg
END:VEVENT
BEGIN:VEVENT
DTSTART;TZID=Europe/Paris:20251114T193000
DTEND;TZID=Europe/Paris:20251114T200000
DTSTAMP:20260423T112803
CREATED:20251003T145401Z
LAST-MODIFIED:20251003T145401Z
UID:10002853-1763148600-1763150400@www.vallet.fr
SUMMARY:L'heure du conte en pyjama
DESCRIPTION:Venez en pyjama lire des histoires ! De 19h30 à 20h\, pour les enfants de 2 à 6 ans\, sur inscription auprès de la médiathèque. 
URL:https://www.vallet.fr/evenement/lheure-du-conte-en-pyjama/
LOCATION:Médiathèque
ATTACH;FMTTYPE=image/jpeg:https://www.vallet.fr/wp-content/uploads/tribe_events/Capture-decran-2025-02-05-154624.jpg
END:VEVENT
BEGIN:VEVENT
DTSTART;TZID=Europe/Paris:20251112T103000
DTEND;TZID=Europe/Paris:20251112T110000
DTSTAMP:20260423T112803
CREATED:20251003T145214Z
LAST-MODIFIED:20251003T145214Z
UID:10002852-1762943400-1762945200@www.vallet.fr
SUMMARY:L'heure du conte
DESCRIPTION:Venez lire des albums\, chanter et faire des jeux de doigts. Enfants de 0 à 3 ans sur inscription auprès de la\nmédiathèque. 10h30.
URL:https://www.vallet.fr/evenement/lheure-du-conte-15/
LOCATION:Médiathèque
ATTACH;FMTTYPE=image/jpeg:https://www.vallet.fr/wp-content/uploads/tribe_events/Capture-decran-2025-02-05-154624.jpg
END:VEVENT
BEGIN:VEVENT
DTSTART;VALUE=DATE:20251106
DTEND;VALUE=DATE:20251107
DTSTAMP:20260423T112803
CREATED:20251119T160752Z
LAST-MODIFIED:20251124T145212Z
UID:10002871-1762387200-1762473599@www.vallet.fr
SUMMARY:Téléthon
DESCRIPTION:Vente de livres\nLes bénévoles vous invitent à participer à une vente solidaire de livres au profit du Téléthon. Venez chiner parmi une large sélection d’ouvrages et contribuez à une belle cause ! \nsamedi 6 décembre 2025 de 10h à 12h et de 14h à 16h \ndimanche 7 décembre de 10h à 12h \nActions à Hyper U \nRendez-vous à Hyper U du 4 au 6 décembre avec les traditionnelles confitures maison\, l’opération « ticket 1€» et les enveloppes surprises (toutes gagnantes) avec de nombreux lots à gagner. \nMarché de Noël \nLors du marché de Noël de Vallet\, les 6 et 7 décembre\, l’association tiendra le stand bar – restauration sucrée avec notamment des crêpes au caramel beurre salé et du vin chaud* ! Nouveauté : la fabrication de confitures en direct
URL:https://www.vallet.fr/evenement/vente-de-livres-au-profit-du-telethon/2025-11-06/
LOCATION:Médiathèque
ATTACH;FMTTYPE=image/jpeg:https://www.vallet.fr/wp-content/uploads/tribe_events/P1025197-scaled.jpg
END:VEVENT
BEGIN:VEVENT
DTSTART;TZID=Europe/Paris:20251025T140000
DTEND;TZID=Europe/Paris:20251025T160000
DTSTAMP:20260423T112803
CREATED:20251002T143852Z
LAST-MODIFIED:20251002T143852Z
UID:10002841-1761400800-1761408000@www.vallet.fr
SUMMARY:Mario en duo
DESCRIPTION: \n\nÀ l’occasion de la Semaine Bleue\, la médiathèque propose une animation autour du jeu vidéo Super Mario Party sur Nintendo Switch. Les duos grand-parent/enfant participeront à un après-midi ludique mêlant quiz\, mini-jeux coopératifs ou compétitifs\, et un temps d’échange convivial.\n\n\n \n\n\n📍 Médiathèque\n\n\n🕜 De 14h à 16h\n\n\n🧒 À partir de 8 ans \n\n\n⚠️ Sur inscription auprès de la médiathèque \n\n\n \n\n\n \n\n 
URL:https://www.vallet.fr/evenement/mario-en-duo/
LOCATION:Médiathèque
ATTACH;FMTTYPE=image/jpeg:https://www.vallet.fr/wp-content/uploads/tribe_events/Capture-decran-2025-10-02-153316.jpg
END:VEVENT
BEGIN:VEVENT
DTSTART;TZID=Europe/Paris:20251015T103000
DTEND;TZID=Europe/Paris:20251015T105500
DTSTAMP:20260423T112803
CREATED:20251001T132943Z
LAST-MODIFIED:20251001T132943Z
UID:10002837-1760524200-1760525700@www.vallet.fr
SUMMARY:L'heure du conte
DESCRIPTION:Venez lire des albums et chanter avec les bénévoles !\n \n\n\n Médiathèque\n 10h30\, durée 25min\n Pour les enfants de 0 à 3 ans accompagnés\n Sur inscription auprès de la médiathèque\n\n\n\n\n\n\n\n\n \n \n\n\n\n\n \n\n\n\n\n\n\n\n\n\n \n\n\n\n\n 
URL:https://www.vallet.fr/evenement/lheure-du-conte-14/
LOCATION:Médiathèque
ATTACH;FMTTYPE=image/jpeg:https://www.vallet.fr/wp-content/uploads/tribe_events/beautiful-composition-of-different-books.jpg
END:VEVENT
BEGIN:VEVENT
DTSTART;TZID=Europe/Paris:20251008T103000
DTEND;TZID=Europe/Paris:20251008T110000
DTSTAMP:20260423T112803
CREATED:20251001T131458Z
LAST-MODIFIED:20251001T131458Z
UID:10002835-1759919400-1759921200@www.vallet.fr
SUMMARY:L'heure du conte intergénérationnelle
DESCRIPTION:Viens avec ton papi et/ou ta mamie ! Dans le cadre de la semaine bleue\, viens assister à une heure du conte sur la thématique de l’intergénérationnel avec ton papi ou ta mamie.\n\n\n \n\n\n🕜 10h30\n\n\n📍 Médiathèque\n\n\n🧒 Enfants à partir de 3 ans \n\n\n⚠️ Sur inscription auprès de la médiathèque \n\n\n \n\n 
URL:https://www.vallet.fr/evenement/lheure-du-conte-intergenerationnelle/
LOCATION:Médiathèque
ATTACH;FMTTYPE=image/jpeg:https://www.vallet.fr/wp-content/uploads/tribe_events/beautiful-composition-of-different-books.jpg
END:VEVENT
BEGIN:VEVENT
DTSTART;TZID=Europe/Paris:20251003T143000
DTEND;TZID=Europe/Paris:20251003T180000
DTSTAMP:20260423T112803
CREATED:20251003T145800Z
LAST-MODIFIED:20251003T145800Z
UID:10002854-1759501800-1759514400@www.vallet.fr
SUMMARY:Atelier sur la réalité virtuelle
DESCRIPTION:Et si vous pouviez entrer littéralement dans le jeu ? La médiathèque vous invite à une immersion totale grâce aux casques de réalité virtuelle Meta Quest 3. \nÀ partir de 12 ans\, entrée libre. \n🚀 TRANSFORMEZ VOTRE SALON EN VAISSEAU SPATIAL \nEmbarquez pour ASTRA\, une expérience en réalité mixte qui transforme votre salon en vaisseau spatial pour un voyage vers les confins de l’univers. Guidé.e par les recherches de votre mère astrobiologiste\, visitez des planètes et lunes à la recherche de la vie. Une quête pour tenter de saisir les mystères de la vie dans l’univers et faire sens de votre deuil sur Terre. ASTRA mêle réalité mixte\, design interactif et environnements cosmiques époustouflants\, au fil d’une histoire personnelle à la résonance universelle.
URL:https://www.vallet.fr/evenement/atelier-sur-la-realite-virtuelle/
LOCATION:Médiathèque
ATTACH;FMTTYPE=image/jpeg:https://www.vallet.fr/wp-content/uploads/tribe_events/vr.jpg
END:VEVENT
END:VCALENDAR