BEGIN:VCALENDAR
VERSION:2.0
PRODID:-//Site de la commune de Vallet - ECPv6.15.18//NONSGML v1.0//EN
CALSCALE:GREGORIAN
METHOD:PUBLISH
X-WR-CALNAME:Site de la commune de Vallet
X-ORIGINAL-URL:https://www.vallet.fr
X-WR-CALDESC:Évènements pour Site de la commune de Vallet
REFRESH-INTERVAL;VALUE=DURATION:PT1H
X-Robots-Tag:noindex
X-PUBLISHED-TTL:PT1H
BEGIN:VTIMEZONE
TZID:Europe/Paris
BEGIN:DAYLIGHT
TZOFFSETFROM:+0100
TZOFFSETTO:+0200
TZNAME:CEST
DTSTART:20250330T010000
END:DAYLIGHT
BEGIN:STANDARD
TZOFFSETFROM:+0200
TZOFFSETTO:+0100
TZNAME:CET
DTSTART:20251026T010000
END:STANDARD
BEGIN:DAYLIGHT
TZOFFSETFROM:+0100
TZOFFSETTO:+0200
TZNAME:CEST
DTSTART:20260329T010000
END:DAYLIGHT
BEGIN:STANDARD
TZOFFSETFROM:+0200
TZOFFSETTO:+0100
TZNAME:CET
DTSTART:20261025T010000
END:STANDARD
BEGIN:DAYLIGHT
TZOFFSETFROM:+0100
TZOFFSETTO:+0200
TZNAME:CEST
DTSTART:20270328T010000
END:DAYLIGHT
BEGIN:STANDARD
TZOFFSETFROM:+0200
TZOFFSETTO:+0100
TZNAME:CET
DTSTART:20271031T010000
END:STANDARD
END:VTIMEZONE
BEGIN:VEVENT
DTSTART;TZID=Europe/Paris:20260423T103000
DTEND;TZID=Europe/Paris:20260423T120000
DTSTAMP:20260423T112245
CREATED:20260401T094333Z
LAST-MODIFIED:20260401T094352Z
UID:10002997-1776940200-1776945600@www.vallet.fr
SUMMARY:Micro-fabrique à la Micro-Folie Vallet : Les fleurs à travers le siècle : de la Renaissance à Dior
DESCRIPTION:Les Micro-fabriques\, qu’est-ce que c’est ? Il s’agit d’un temps de découverte d’œuvres et d’échanges\, suivi d’un atelier créatif\, préparés et animés par la médiatrice de la Micro-Folie. \nÀ travers une sélection d’œuvres\, découvrez comment les fleurs ont inspiré des générations d’artistes. Du réalisme saisissant de Rachel Ruysch\, au symbolisme décoratif de Klimt en passant par l’univers floral du couturier Christian Dior\, voyagez à travers des représentations singulières de la flore dans l’art. Terminez cette exploration par la création de votre fleur en papier de soie ! \n  \nInfos pratiques :\nÀ noter : Le même contenu sera proposé sur chaque Micro-Fabrique.\nAccessibles de 3 à 99 ans\, les Micro-fabriques sont gratuites\, mais sur inscription obligatoire\, le nombre de places étant limité.\nPour vous inscrire : rendez-vous sur le site internet du Champilambart\, rubrique Micro-Folie et Programme.\nPour rappel\, chaque personne mineure doit obligatoirement être accompagnée d’un adulte.
URL:https://www.vallet.fr/evenement/micro-fabrique-a-la-micro-folie-vallet-les-fleurs-a-travers-le-siecle-de-la-renaissance-a-dior/2026-04-23/
LOCATION:Micro-Folie\, 13 route des Dorices\, Vallet\, 44330\, France
ATTACH;FMTTYPE=image/jpeg:https://www.vallet.fr/wp-content/uploads/tribe_events/IMG20250416110052-scaled.jpg
ORGANIZER;CN="Micro-Folie Vallet":MAILTO:microfolie@vallet.fr
END:VEVENT
END:VCALENDAR